BEGIN:VCALENDAR
VERSION:2.0
PRODID:-//time.you/holidays//NONSGML v1.0//EN
BEGIN:VEVENT
UID:b9ad1275-0858-4e95-bb9f-ca0b3edf9446
DTSTAMP:20260420T025256Z
DTSTART;VALUE=DATE:20280803
SUMMARY:Anniversary of the Proclamation of Independence; Prophet's Birthday (estimated) (Niger)
END:VEVENT
END:VCALENDAR