BEGIN:VCALENDAR
VERSION:2.0
PRODID:-//time.you/holidays//NONSGML v1.0//EN
BEGIN:VEVENT
UID:e26454e4-da1f-4ffe-a10b-4d84a69d4996
DTSTAMP:20260420T012522Z
DTSTART;VALUE=DATE:20260803
SUMMARY:Anniversary of the Proclamation of Independence (Niger)
END:VEVENT
END:VCALENDAR