BEGIN:VCALENDAR
VERSION:2.0
PRODID:-//time.you/holidays//NONSGML v1.0//EN
BEGIN:VEVENT
UID:f8c3f507-d89e-466b-a4ad-d329a62897c3
DTSTAMP:20260422T052742Z
DTSTART;VALUE=DATE:20331226
SUMMARY:Christmas Day (observed) (Niger)
END:VEVENT
END:VCALENDAR