BEGIN:VCALENDAR
VERSION:2.0
PRODID:-//time.you/holidays//NONSGML v1.0//EN
BEGIN:VEVENT
UID:3a9e9e3d-ce59-442c-876b-e5b5971ec800
DTSTAMP:20260422T051839Z
DTSTART;VALUE=DATE:20250609
SUMMARY:Day after Eid al-Adha (observed) (Niger)
END:VEVENT
END:VCALENDAR