BEGIN:VCALENDAR
VERSION:2.0
PRODID:-//time.you/holidays//NONSGML v1.0//EN
BEGIN:VEVENT
UID:5ae510ee-7136-4f75-ba76-4d274b634143
DTSTAMP:20260424T043625Z
DTSTART;VALUE=DATE:20260406
SUMMARY:Easter Monday (Niger)
END:VEVENT
END:VCALENDAR