BEGIN:VCALENDAR
VERSION:2.0
PRODID:-//time.you/holidays//NONSGML v1.0//EN
BEGIN:VEVENT
UID:ef3cf9e6-c63d-4786-80e1-308f72fe238b
DTSTAMP:20260424T053314Z
DTSTART;VALUE=DATE:20250331
SUMMARY:Eid al-Fitr (observed) (Niger)
END:VEVENT
END:VCALENDAR