BEGIN:VCALENDAR
VERSION:2.0
PRODID:-//time.you/holidays//NONSGML v1.0//EN
BEGIN:VEVENT
UID:dd7a5dec-0aa2-47e7-b1ca-3284c4bb89f5
DTSTAMP:20260420T012456Z
DTSTART;VALUE=DATE:20260501
SUMMARY:International Labor Day (Niger)
END:VEVENT
END:VCALENDAR