BEGIN:VCALENDAR
VERSION:2.0
PRODID:-//time.you/holidays//NONSGML v1.0//EN
BEGIN:VEVENT
UID:bd60108e-800a-49bf-9c2f-aceb4f8a7b06
DTSTAMP:20260420T125829Z
DTSTART;VALUE=DATE:20270607
SUMMARY:Islamic New Year (observed, estimated) (Niger)
END:VEVENT
END:VCALENDAR