BEGIN:VCALENDAR
VERSION:2.0
PRODID:-//time.you/holidays//NONSGML v1.0//EN
BEGIN:VEVENT
UID:0505c2b5-dcbf-4fad-ade0-0311dc7d74a7
DTSTAMP:20260421T131151Z
DTSTART;VALUE=DATE:20260316
SUMMARY:Laylat al-Qadr (estimated) (Niger)
END:VEVENT
END:VCALENDAR