BEGIN:VCALENDAR
VERSION:2.0
PRODID:-//time.you/holidays//NONSGML v1.0//EN
BEGIN:VEVENT
UID:b8d39d3c-ddba-4939-96b9-fdf5d4d50251
DTSTAMP:20260420T125233Z
DTSTART;VALUE=DATE:20250327
SUMMARY:Laylat al-Qadr (Niger)
END:VEVENT
END:VCALENDAR