BEGIN:VCALENDAR
VERSION:2.0
PRODID:-//time.you/holidays//NONSGML v1.0//EN
BEGIN:VEVENT
UID:5009dcb0-0cc0-41f0-bfa8-99d3c7b5c65f
DTSTAMP:20260421T210821Z
DTSTART;VALUE=DATE:20330425
SUMMARY:National Concord Day (observed) (Niger)
END:VEVENT
END:VCALENDAR