BEGIN:VCALENDAR
VERSION:2.0
PRODID:-//time.you/holidays//NONSGML v1.0//EN
BEGIN:VEVENT
UID:c97cc36e-5b5b-47d9-a3a4-dd51f03349d4
DTSTAMP:20260421T210541Z
DTSTART;VALUE=DATE:20221219
SUMMARY:National Day (observed) (Niger)
END:VEVENT
END:VCALENDAR