BEGIN:VCALENDAR
VERSION:2.0
PRODID:-//time.you/holidays//NONSGML v1.0//EN
BEGIN:VEVENT
UID:c0938ad3-3b5e-4fa6-99e6-9b2b97eeecef
DTSTAMP:20260424T132406Z
DTSTART;VALUE=DATE:20260101
SUMMARY:New Year's Day (Niger)
END:VEVENT
END:VCALENDAR