BEGIN:VCALENDAR
VERSION:2.0
PRODID:-//time.you/holidays//NONSGML v1.0//EN
BEGIN:VEVENT
UID:e34d02c4-781f-438f-bd72-0a0a80803537
DTSTAMP:20260421T201250Z
DTSTART;VALUE=DATE:20260825
SUMMARY:Prophet's Birthday (estimated) (Niger)
END:VEVENT
END:VCALENDAR