BEGIN:VCALENDAR
VERSION:2.0
PRODID:-//time.you/holidays//NONSGML v1.0//EN
BEGIN:VEVENT
UID:e66aa301-4088-4e92-91eb-d7cedaa0b4a7
DTSTAMP:20260420T023858Z
DTSTART;VALUE=DATE:20250905
SUMMARY:Prophet's Birthday (Niger)
END:VEVENT
END:VCALENDAR