BEGIN:VCALENDAR
VERSION:2.0
PRODID:-//time.you/holidays//NONSGML v1.0//EN
BEGIN:VEVENT
UID:a2683e2b-6ded-414a-b6f1-e871d8105ce2
DTSTAMP:20260420T125727Z
DTSTART;VALUE=DATE:20261228
SUMMARY:Boxing Day (observed) (Nigeria)
END:VEVENT
END:VCALENDAR