BEGIN:VCALENDAR
VERSION:2.0
PRODID:-//time.you/holidays//NONSGML v1.0//EN
BEGIN:VEVENT
UID:900277f3-a15f-407b-865d-c271258e05d5
DTSTAMP:20260419T233651Z
DTSTART;VALUE=DATE:20260529
SUMMARY:Eid al-Adha Holiday (estimated) (Nigeria)
END:VEVENT
END:VCALENDAR