BEGIN:VCALENDAR
VERSION:2.0
PRODID:-//time.you/holidays//NONSGML v1.0//EN
BEGIN:VEVENT
UID:ce996397-f181-4976-9e75-be4aea7cc206
DTSTAMP:20260424T155747Z
DTSTART;VALUE=DATE:20250609
SUMMARY:Eid al-Adha Holiday (observed) (Nigeria)
END:VEVENT
END:VCALENDAR