BEGIN:VCALENDAR
VERSION:2.0
PRODID:-//time.you/holidays//NONSGML v1.0//EN
BEGIN:VEVENT
UID:8afac498-9baa-4cbb-8e67-623478f75edb
DTSTAMP:20260420T090358Z
DTSTART;VALUE=DATE:20260322
SUMMARY:Eid al-Fitr Holiday (estimated) (Nigeria)
END:VEVENT
END:VCALENDAR