BEGIN:VCALENDAR
VERSION:2.0
PRODID:-//time.you/holidays//NONSGML v1.0//EN
BEGIN:VEVENT
UID:8ad9fc8f-c4bd-44aa-8328-98f857409e70
DTSTAMP:20260421T211724Z
DTSTART;VALUE=DATE:20260323
SUMMARY:Eid al-Fitr (observed, estimated) (Nigeria)
END:VEVENT
END:VCALENDAR