BEGIN:VCALENDAR
VERSION:2.0
PRODID:-//time.you/holidays//NONSGML v1.0//EN
BEGIN:VEVENT
UID:b2cb4036-36b8-4a29-afd6-ff1341314612
DTSTAMP:20260422T071208Z
DTSTART;VALUE=DATE:20260403
SUMMARY:Good Friday (Nigeria)
END:VEVENT
END:VCALENDAR