BEGIN:VCALENDAR
VERSION:2.0
PRODID:-//time.you/holidays//NONSGML v1.0//EN
BEGIN:VEVENT
UID:a5fed389-1436-4977-94eb-9fe35392c1df
DTSTAMP:20260421T004619Z
DTSTART;VALUE=DATE:20261226
SUMMARY:Boxing Day (Niue)
END:VEVENT
END:VCALENDAR