BEGIN:VCALENDAR
VERSION:2.0
PRODID:-//time.you/holidays//NONSGML v1.0//EN
BEGIN:VEVENT
UID:9c73ca20-b514-4d1a-a110-5ce94eb7d2ed
DTSTAMP:20260420T002115Z
DTSTART;VALUE=DATE:20261225
SUMMARY:Christmas Day (Niue)
END:VEVENT
END:VCALENDAR