BEGIN:VCALENDAR
VERSION:2.0
PRODID:-//time.you/holidays//NONSGML v1.0//EN
BEGIN:VEVENT
UID:4a99a952-1e31-4416-8072-1a8ff5a4b621
DTSTAMP:20260420T184101Z
DTSTART;VALUE=DATE:20261019
SUMMARY:Constitution Day (Niue)
END:VEVENT
END:VCALENDAR