BEGIN:VCALENDAR
VERSION:2.0
PRODID:-//time.you/holidays//NONSGML v1.0//EN
BEGIN:VEVENT
UID:e6573a71-6f6d-4418-a264-1bb48a19be4c
DTSTAMP:20260420T231947Z
DTSTART;VALUE=DATE:20260403
SUMMARY:Good Friday (Niue)
END:VEVENT
END:VCALENDAR