BEGIN:VCALENDAR
VERSION:2.0
PRODID:-//time.you/holidays//NONSGML v1.0//EN
BEGIN:VEVENT
UID:8e2720db-2055-4838-b300-b7163c1bf5f1
DTSTAMP:20260424T012723Z
DTSTART;VALUE=DATE:20220919
SUMMARY:Queen Elizabeth II's Funeral (Niue)
END:VEVENT
END:VCALENDAR