BEGIN:VCALENDAR
VERSION:2.0
PRODID:-//time.you/holidays//NONSGML v1.0//EN
BEGIN:VEVENT
UID:902a744e-cde0-41b8-b6c0-dabeb784e465
DTSTAMP:20260422T070746Z
DTSTART;VALUE=DATE:20260615
SUMMARY:King's Birthday (Norfolk Island)
END:VEVENT
END:VCALENDAR