BEGIN:VCALENDAR
VERSION:2.0
PRODID:-//time.you/holidays//NONSGML v1.0//EN
BEGIN:VEVENT
UID:6d48505a-dad3-427e-88d3-24c6fc40b304
DTSTAMP:20260422T065647Z
DTSTART;VALUE=DATE:20260815
SUMMARY:Liberation Day (North Korea)
END:VEVENT
END:VCALENDAR