BEGIN:VCALENDAR
VERSION:2.0
PRODID:-//time.you/holidays//NONSGML v1.0//EN
BEGIN:VEVENT
UID:bee6c3ad-efbe-4571-8df2-5e65575d8cdb
DTSTAMP:20260420T125131Z
DTSTART;VALUE=DATE:20261116
SUMMARY:Mother's Day (North Korea)
END:VEVENT
END:VCALENDAR