BEGIN:VCALENDAR
VERSION:2.0
PRODID:-//time.you/holidays//NONSGML v1.0//EN
BEGIN:VEVENT
UID:44424f1e-a921-4eff-a963-035c95253b0c
DTSTAMP:20260421T130712Z
DTSTART;VALUE=DATE:20260828
SUMMARY:Youth Day (North Korea)
END:VEVENT
END:VCALENDAR