BEGIN:VCALENDAR
VERSION:2.0
PRODID:-//time.you/holidays//NONSGML v1.0//EN
BEGIN:VEVENT
UID:905ee7c5-1478-4cc0-9145-dac2602b2149
DTSTAMP:20260422T041159Z
DTSTART;VALUE=DATE:20290108
SUMMARY:Christmas Day (observed) (North Macedonia)
END:VEVENT
END:VCALENDAR