BEGIN:VCALENDAR
VERSION:2.0
PRODID:-//time.you/holidays//NONSGML v1.0//EN
BEGIN:VEVENT
UID:e11815ce-e791-4cb6-8381-494241d27108
DTSTAMP:20260419T233516Z
DTSTART;VALUE=DATE:20260413
SUMMARY:Easter Monday (North Macedonia)
END:VEVENT
END:VCALENDAR