BEGIN:VCALENDAR
VERSION:2.0
PRODID:-//time.you/holidays//NONSGML v1.0//EN
BEGIN:VEVENT
UID:042c73cc-36bd-4dc2-bd3f-b0bd9651303d
DTSTAMP:20260421T203333Z
DTSTART;VALUE=DATE:20220502
SUMMARY:Eid al-Fitr; Labor Day (observed) (North Macedonia)
END:VEVENT
END:VCALENDAR