BEGIN:VCALENDAR
VERSION:2.0
PRODID:-//time.you/holidays//NONSGML v1.0//EN
BEGIN:VEVENT
UID:6507f2d6-e59a-44e8-8937-0e747923dcdb
DTSTAMP:20260424T155747Z
DTSTART;VALUE=DATE:20250331
SUMMARY:Eid al-Fitr (observed) (North Macedonia)
END:VEVENT
END:VCALENDAR