BEGIN:VCALENDAR
VERSION:2.0
PRODID:-//time.you/holidays//NONSGML v1.0//EN
BEGIN:VEVENT
UID:7eb482b4-cdaf-4a2c-bbc5-b5a8a8de65d1
DTSTAMP:20260422T071255Z
DTSTART;VALUE=DATE:20250330
SUMMARY:Eid al-Fitr (North Macedonia)
END:VEVENT
END:VCALENDAR