BEGIN:VCALENDAR
VERSION:2.0
PRODID:-//time.you/holidays//NONSGML v1.0//EN
BEGIN:VEVENT
UID:1c6bd2a6-36d8-4f03-ac26-7a370008d42b
DTSTAMP:20260421T221102Z
DTSTART;VALUE=DATE:20300909
SUMMARY:Independence Day (observed) (North Macedonia)
END:VEVENT
END:VCALENDAR