BEGIN:VCALENDAR
VERSION:2.0
PRODID:-//time.you/holidays//NONSGML v1.0//EN
BEGIN:VEVENT
UID:7fd419c3-ab4a-404b-a1ed-6edf99d35267
DTSTAMP:20260421T235206Z
DTSTART;VALUE=DATE:20260101
SUMMARY:New Year's Day (North Macedonia)
END:VEVENT
END:VCALENDAR