BEGIN:VCALENDAR
VERSION:2.0
PRODID:-//time.you/holidays//NONSGML v1.0//EN
BEGIN:VEVENT
UID:a4e65b74-7b8b-4c5e-b65d-2543dc0b5fa3
DTSTAMP:20260422T000547Z
DTSTART;VALUE=DATE:20301209
SUMMARY:Saint Clement of Ohrid Day (observed) (North Macedonia)
END:VEVENT
END:VCALENDAR