BEGIN:VCALENDAR
VERSION:2.0
PRODID:-//time.you/holidays//NONSGML v1.0//EN
BEGIN:VEVENT
UID:b3fe6a54-f5ea-4e7f-a408-f3731c505650
DTSTAMP:20260422T042722Z
DTSTART;VALUE=DATE:20260324
SUMMARY:Commonwealth Covenant Day (Northern Mariana Islands)
END:VEVENT
END:VCALENDAR