BEGIN:VCALENDAR
VERSION:2.0
PRODID:-//time.you/holidays//NONSGML v1.0//EN
BEGIN:VEVENT
UID:45b3b916-c6e9-42be-a163-b6649e022be9
DTSTAMP:20260422T010431Z
DTSTART;VALUE=DATE:20261208
SUMMARY:Constitution Day (Northern Mariana Islands)
END:VEVENT
END:VCALENDAR