BEGIN:VCALENDAR
VERSION:2.0
PRODID:-//time.you/holidays//NONSGML v1.0//EN
BEGIN:VEVENT
UID:586bf8ba-bf75-40e1-b32d-8ce92b6c05c7
DTSTAMP:20260419T233554Z
DTSTART;VALUE=DATE:20260403
SUMMARY:Good Friday (Northern Mariana Islands)
END:VEVENT
END:VCALENDAR