BEGIN:VCALENDAR
VERSION:2.0
PRODID:-//time.you/holidays//NONSGML v1.0//EN
BEGIN:VEVENT
UID:f075dc09-76b7-44c4-9a25-473ae5ad3724
DTSTAMP:20260422T053915Z
DTSTART;VALUE=DATE:20260703
SUMMARY:Independence Day (observed) (Northern Mariana Islands)
END:VEVENT
END:VCALENDAR