BEGIN:VCALENDAR
VERSION:2.0
PRODID:-//time.you/holidays//NONSGML v1.0//EN
BEGIN:VEVENT
UID:bc0e5d44-c75b-489f-8ef2-fa6ce0a952dc
DTSTAMP:20260422T074117Z
DTSTART;VALUE=DATE:20260619
SUMMARY:Juneteenth National Independence Day (Northern Mariana Islands)
END:VEVENT
END:VCALENDAR