BEGIN:VCALENDAR
VERSION:2.0
PRODID:-//time.you/holidays//NONSGML v1.0//EN
BEGIN:VEVENT
UID:876eda1c-40f6-4e50-b3ef-8fcecd173160
DTSTAMP:20260420T013800Z
DTSTART;VALUE=DATE:20260907
SUMMARY:Labor Day (Northern Mariana Islands)
END:VEVENT
END:VCALENDAR