BEGIN:VCALENDAR
VERSION:2.0
PRODID:-//time.you/holidays//NONSGML v1.0//EN
BEGIN:VEVENT
UID:2d8ce06b-4454-4fcc-a603-4e279acf0ec9
DTSTAMP:20260419T235605Z
DTSTART;VALUE=DATE:20260101
SUMMARY:New Year's Day (Northern Mariana Islands)
END:VEVENT
END:VCALENDAR