BEGIN:VCALENDAR
VERSION:2.0
PRODID:-//time.you/holidays//NONSGML v1.0//EN
BEGIN:VEVENT
UID:8e48cb92-301e-4c51-a008-fd8242ff7beb
DTSTAMP:20260423T133100Z
DTSTART;VALUE=DATE:20260406
SUMMARY:Easter Monday (Norway)
END:VEVENT
END:VCALENDAR