BEGIN:VCALENDAR
VERSION:2.0
PRODID:-//time.you/holidays//NONSGML v1.0//EN
BEGIN:VEVENT
UID:b93d49db-2055-4701-bb4f-712dba3a2051
DTSTAMP:20260424T023557Z
DTSTART;VALUE=DATE:20260405
SUMMARY:Easter Sunday (Norway)
END:VEVENT
END:VCALENDAR