BEGIN:VCALENDAR
VERSION:2.0
PRODID:-//time.you/holidays//NONSGML v1.0//EN
BEGIN:VEVENT
UID:5d69bd24-27d5-424a-87fc-053d1172fe69
DTSTAMP:20260420T184257Z
DTSTART;VALUE=DATE:20260403
SUMMARY:Good Friday (Norway)
END:VEVENT
END:VCALENDAR