BEGIN:VCALENDAR
VERSION:2.0
PRODID:-//time.you/holidays//NONSGML v1.0//EN
BEGIN:VEVENT
UID:ee501e98-ba74-4b13-ab57-e19db79bb036
DTSTAMP:20260421T082438Z
DTSTART;VALUE=DATE:20260501
SUMMARY:Labor Day (Norway)
END:VEVENT
END:VCALENDAR