BEGIN:VCALENDAR
VERSION:2.0
PRODID:-//time.you/holidays//NONSGML v1.0//EN
BEGIN:VEVENT
UID:dfbc04f8-999b-40f9-a6cb-ff99d13e8fbe
DTSTAMP:20260419T234152Z
DTSTART;VALUE=DATE:20260101
SUMMARY:New Year's Day (Norway)
END:VEVENT
END:VCALENDAR